Workbook
Name Wertung: 'Bidder 1-5:Bidder 6-10'!$F$114:$N$114

Sheet Bidder 1-5
A1: Grid for the technical assessment of bids below the EU threshold | O1: Bidder 1 to 5
A2: Org. unit | C2: 2B00 | G2: Project title | L2: Date | M2: 17-09-2026
A3: Officer responsible for the commission | C3: Laura Sustersic | G3: Procurement of services for Support to District Ganga Committees for Preparation of District Ganga Plans in Uttar Pradesh & Jharkhand | L3: PN | M3: G-012099-001
A4: Assessor | C4: Suvajit Dey | L4: Contract no.
A5: Version | C5: Individual assessment/overall assessment | M5: ="Bidder 1 to 5 of "&TEXT(IF(COUNTA('Bidder 6-10'!E11:E37,'Bidder 6-10'!G11:G37,'Bidder 6-10'!I11:I37,'Bidder 6-10'!K11:K37,'Bidder 6-10'!M11:M37)+COUNTA('Bidder 6-10'!E39:E110,'Bidder 6-10'!G39:G110,'Bidder 6-10'!I39:I110,'Bidder 6-10'!K39:K110,'Bidder 6-10'!M39:M110)>0,"10","5"),"0") -> Bidder 1 to 5 of 5 | O5: (automatically increases to 10, if entries were made on sheet 'Bidder 6-10')
E6: Enter bidder 1 | G6: Enter bidder 2 | I6: Enter bidder 3 | K6: Enter bidder 4 | M6: Enter bidder 5
B7: (1) | D7: (2) | E7: (3) | F7: (4) | G7: (3) | H7: (4) | I7: (3) | J7: (4) | K7: (3) | L7: (4) | M7: (3) | N7: (4)
B8: Criterion | D8: Weighting | E8: Points | F8: Assessment | G8: Points | H8: Assessment | I8: Points | J8: Assessment | K8: Points | L8: Assessment | M8: Points | N8: Assessment
D9: in % | E9: (max.10) | F9: (2)x(3) | G9: (max.10) | H9: (2)x(3) | I9: (max.10) | J9: (2)x(3) | K9: (max.10) | L9: (2)x(3) | M9: (max.10) | N9: (2)x(3)
A10: 1 | B10: Assessment of technical-methodological design | P10: =IF(ISBLANK(B10),A10,B10) -> Assessment of technical-methodological design
A11: 1.1 | B11: Strategy | P11: =IF(ISBLANK(B11),A11,B11) -> Strategy
A12: 1.1.1 | B12: Interpretation of the objectives in the ToRs, critical examination of tasks | D12: 0.03 | F12: =$D12*E12*100 -> 0 | H12: =$D12*G12*100 -> 0 | J12: =$D12*I12*100 -> 0 | L12: =$D12*K12*100 -> 0 | N12: =$D12*M12*100 -> 0 | P12: =IF(ISBLANK(B12),A12,B12) -> Interpretation of the objectives in the ToRs, critical examination of tasks
A13: 1.1.2 | B13: Description and justification of the contractor's strategy for delivering the services put out to tender. | D13: 0.03 | F13: =$D13*E13*100 -> 0 | H13: =$D13*G13*100 -> 0 | J13: =$D13*I13*100 -> 0 | L13: =$D13*K13*100 -> 0 | N13: =$D13*M13*100 -> 0 | P13: =IF(ISBLANK(B13),A13,B13) -> Description and justification of the contractor's strategy for delivering the services put out to tender.
A14: Interim total 1.1 | D14: =SUM(D12:D13) -> 0.06 | F14: =SUM(F12:F13) -> 0 | H14: =SUM(H12:H13) -> 0 | J14: =SUM(J12:J13) -> 0 | L14: =SUM(L12:L13) -> 0 | N14: =SUM(N12:N13) -> 0 | P14: =IF(ISBLANK(B14),A14,B14) -> Interim total 1.1
A15: 1.2 | B15: Cooperation | P15: =IF(ISBLANK(B15),A15,B15) -> Cooperation
A16: 1.2.1 | B16: Presentation and interaction between the relevant actors in the contractor's area of responsibility | D16: 0.02 | F16: =$D16*E16*100 -> 0 | H16: =$D16*G16*100 -> 0 | J16: =$D16*I16*100 -> 0 | L16: =$D16*K16*100 -> 0 | N16: =$D16*M16*100 -> 0 | P16: =IF(ISBLANK(B16),A16,B16) -> Presentation and interaction between the relevant actors in the contractor's area of responsibility
A17: 1.2.2 | B17: Strategy for establishing cooperation and then cooperating with the relevant actors | D17: 0.03 | F17: =$D17*E17*100 -> 0 | H17: =$D17*G17*100 -> 0 | J17: =$D17*I17*100 -> 0 | L17: =$D17*K17*100 -> 0 | N17: =$D17*M17*100 -> 0 | P17: =IF(ISBLANK(B17),A17,B17) -> Strategy for establishing cooperation and then cooperating with the relevant actors
A18: Interim total 1.2 | D18: =SUM(D16:D17) -> 0.05 | F18: =SUM(F16:F17) -> 0 | H18: =SUM(H16:H17) -> 0 | J18: =SUM(J16:J17) -> 0 | L18: =SUM(L16:L17) -> 0 | N18: =SUM(N16:N17) -> 0 | P18: =IF(ISBLANK(B18),A18,B18) -> Interim total 1.2
A19: 1.3 | B19: Steering structure | P19: =IF(ISBLANK(B19),A19,B19) -> Steering structure
A20: 1.3.1 | B20: Approach and procedure for steering the measures with the project partners | D20: 0.03 | F20: =$D20*E20*100 -> 0 | H20: =$D20*G20*100 -> 0 | J20: =$D20*I20*100 -> 0 | L20: =$D20*K20*100 -> 0 | N20: =$D20*M20*100 -> 0 | P20: =IF(ISBLANK(B20),A20,B20) -> Approach and procedure for steering the measures with the project partners
A21: 1.3.2 | B21: Description of contractor's contribution to results monitoring and the associated challenges | D21: 0.03 | F21: =$D21*E21*100 -> 0 | H21: =$D21*G21*100 -> 0 | J21: =$D21*I21*100 -> 0 | L21: =$D21*K21*100 -> 0 | N21: =$D21*M21*100 -> 0 | P21: =IF(ISBLANK(B21),A21,B21) -> Description of contractor's contribution to results monitoring and the associated challenges
A22: Interim total 1.3 | D22: =SUM(D20:D21) -> 0.06 | F22: =SUM(F20:F21) -> 0 | H22: =SUM(H20:H21) -> 0 | J22: =SUM(J20:J21) -> 0 | L22: =SUM(L20:L21) -> 0 | N22: =SUM(N20:N21) -> 0 | P22: =IF(ISBLANK(B22),A22,B22) -> Interim total 1.3
A23: 1.4 | B23: Processes | P23: =IF(ISBLANK(B23),A23,B23) -> Processes
A24: 1.4.1 | B24: Presentation and explanation of the implementation plan: work steps, milestones, schedule | D24: 0.04 | F24: =$D24*E24*100 -> 0 | H24: =$D24*G24*100 -> 0 | J24: =$D24*I24*100 -> 0 | L24: =$D24*K24*100 -> 0 | N24: =$D24*M24*100 -> 0 | P24: =IF(ISBLANK(B24),A24,B24) -> Presentation and explanation of the implementation plan: work steps, milestones, schedule
A25: 1.4.2 | B25: Presentation and explanation of the integration of the partner contributions | D25: 0.02 | F25: =$D25*E25*100 -> 0 | H25: =$D25*G25*100 -> 0 | J25: =$D25*I25*100 -> 0 | L25: =$D25*K25*100 -> 0 | N25: =$D25*M25*100 -> 0 | P25: =IF(ISBLANK(B25),A25,B25) -> Presentation and explanation of the integration of the partner contributions
A26: Interim total 1.4 | D26: =SUM(D24:D25) -> 0.06 | F26: =SUM(F24:F25) -> 0 | H26: =SUM(H24:H25) -> 0 | J26: =SUM(J24:J25) -> 0 | L26: =SUM(L24:L25) -> 0 | N26: =SUM(N24:N25) -> 0 | P26: =IF(ISBLANK(B26),A26,B26) -> Interim total 1.4
A27: 1.5 | B27: Learning and innovation | P27: =IF(ISBLANK(B27),A27,B27) -> Learning and innovation
A28: 1.5.1 | B28: Contractor's contribution to knowledge management at the partner and at GIZ | D28: 0.02 | F28: =$D28*E28*100 -> 0 | H28: =$D28*G28*100 -> 0 | J28: =$D28*I28*100 -> 0 | L28: =$D28*K28*100 -> 0 | N28: =$D28*M28*100 -> 0 | P28: =IF(ISBLANK(B28),A28,B28) -> Contractor's contribution to knowledge management at the partner and at GIZ
A29: 1.5.2 | B29: Presentation and explanation of the measures undertaken by the contractor to promote scaling-up effects | D29: 0.02 | F29: =$D29*E29*100 -> 0 | H29: =$D29*G29*100 -> 0 | J29: =$D29*I29*100 -> 0 | L29: =$D29*K29*100 -> 0 | N29: =$D29*M29*100 -> 0 | P29: =IF(ISBLANK(B29),A29,B29) -> Presentation and explanation of the measures undertaken by the contractor to promote scaling-up effects
A30: Interim total 1.5 | D30: =SUM(D28:D29) -> 0.04 | F30: =SUM(F28:F29) -> 0 | H30: =SUM(H28:H29) -> 0 | J30: =SUM(J28:J29) -> 0 | L30: =SUM(L28:L29) -> 0 | N30: =SUM(N28:N29) -> 0 | P30: =IF(ISBLANK(B30),A30,B30) -> Interim total 1.5
A31: 1.6 | B31: Project management of the contractor | P31: =IF(ISBLANK(B31),A31,B31) -> Project management of the contractor
A32: 1.6.1 | B32: Approach and procedure for coordination with/in GIZ project | D32: 0.02 | F32: =$D32*E32*100 -> 0 | H32: =$D32*G32*100 -> 0 | J32: =$D32*I32*100 -> 0 | L32: =$D32*K32*100 -> 0 | N32: =$D32*M32*100 -> 0 | P32: =IF(ISBLANK(B32),A32,B32) -> Approach and procedure for coordination with/in GIZ project
A33: 1.6.2 | B33: Personnel assignment plan (who, when, what work steps) incl. explanation and specification of expert months | D33: 0.04 | F33: =$D33*E33*100 -> 0 | H33: =$D33*G33*100 -> 0 | J33: =$D33*I33*100 -> 0 | L33: =$D33*K33*100 -> 0 | N33: =$D33*M33*100 -> 0 | P33: =IF(ISBLANK(B33),A33,B33) -> Personnel assignment plan (who, when, what work steps) incl. explanation and specification of expert months
A34: 1.6.3 | B34: Contractor's backstopping strategy (incl. CVs of the technical and administrative backstopper) | D34: 0 | F34: =$D34*E34*100 -> 0 | H34: =$D34*G34*100 -> 0 | J34: =$D34*I34*100 -> 0 | L34: =$D34*K34*100 -> 0 | N34: =$D34*M34*100 -> 0 | P34: =IF(ISBLANK(B34),A34,B34) -> Contractor's backstopping strategy (incl. CVs of the technical and administrative backstopper)
A35: Interim total 1.6 | D35: =SUM(D32:D34) -> 0.06 | F35: =SUM(F32:F34) -> 0 | H35: =SUM(H32:H34) -> 0 | J35: =SUM(J32:J34) -> 0 | L35: =SUM(L32:L34) -> 0 | N35: =SUM(N32:N34) -> 0 | P35: =IF(ISBLANK(B35),A35,B35) -> Interim total 1.6
A36: 1.7 | B36: Further requirements | D36: 0.02 | F36: =$D36*E36*100 -> 0 | H36: =$D36*G36*100 -> 0 | J36: =$D36*I36*100 -> 0 | L36: =$D36*K36*100 -> 0 | N36: =$D36*M36*100 -> 0 | P36: =IF(ISBLANK(B36),A36,B36) -> Further requirements
A37: Total 1 | D37: =SUM(D14,D18,D22,D26,D30,D35,D36) -> 0.35 | F37: =SUM(F14,F18,F22,F26,F30,F35,F36) -> 0 | H37: =SUM(H14,H18,H22,H26,H30,H35,H36) -> 0 | J37: =SUM(J14,J18,J22,J26,J30,J35,J36) -> 0 | L37: =SUM(L14,L18,L22,L26,L30,L35,L36) -> 0 | N37: =SUM(N14,N18,N22,N26,N30,N35,N36) -> 0 | P37: =IF(ISBLANK(B37),A37,B37) -> Total 1
A38: 2 | B38: Assessment of proposed staff | P38: =IF(ISBLANK(B38),A38,B38) -> Assessment of proposed staff
A39: 2.1 | B39: Team leader (in accordance with ToR provisions/criteria) | P39: =IF(ISBLANK(B39),A39,B39) -> Team leader (in accordance with ToR provisions/criteria)
A40: 2.1.1 | B40: - Qualifications | D40: 0.02 | F40: =$D40*E40*100 -> 0 | H40: =$D40*G40*100 -> 0 | J40: =$D40*I40*100 -> 0 | L40: =$D40*K40*100 -> 0 | N40: =$D40*M40*100 -> 0 | P40: =IF(ISBLANK(B40),A40,B40) -> - Qualifications
...

Sheet Bidder 6-10
A1: Grid for the technical assessment of bids above the EU threshold | O1: Bidder 6 to 10
A2: Org. unit | C2: ='Bidder 1-5'!C2:E2 -> 2B00 | G2: Project title | L2: Date | M2: ='Bidder 1-5'!M2:N2 -> 17-09-2026
A3: Officer responsible for the commission | C3: ='Bidder 1-5'!C3:E3 -> Laura Sustersic | G3: ='Bidder 1-5'!G3:K5 -> Procurement of services for Support to District Ganga Committees for Preparation of District Ganga Plans in Uttar Pradesh & Jharkhand | L3: PN | M3: ='Bidder 1-5'!M3:N3 -> G-012099-001
A4: Assessor | C4: ='Bidder 1-5'!C4:E4 -> Suvajit Dey | L4: Contract no. | M4: ='Bidder 1-5'!M4:N4 -> 0
A5: Version | C5: ='Bidder 1-5'!C5:E5 -> Individual assessment/overall assessment | M5: Bidder 6 to 10 of 10
E6: Enter bidder 6 | G6: Enter bidder 7 | I6: Enter bidder 8 | K6: Enter bidder 9 | M6: Enter bidder 10
B7: (1) | D7: (2) | E7: (3) | F7: (4) | G7: (3) | H7: (4) | I7: (3) | J7: (4) | K7: (3) | L7: (4) | M7: (3) | N7: (4)
B8: Criterion | D8: Weighting | E8: Points | F8: Assessment | G8: Points | H8: Assessment | I8: Points | J8: Assessment | K8: Points | L8: Assessment | M8: Points | N8: Assessment
D9: in % | E9: (max.10) | F9: (2)x(3) | G9: (max.10) | H9: (2)x(3) | I9: (max.10) | J9: (2)x(3) | K9: (max.10) | L9: (2)x(3) | M9: (max.10) | N9: (2)x(3)
A10: 1 | B10: Assessment of technical-methodological design | P10: =IF(ISBLANK(B10),A10,B10) -> Assessment of technical-methodological design
A11: 1.1 | B11: Strategy | P11: =IF(ISBLANK(B11),A11,B11) -> Strategy
A12: 1.1.1 | B12: Interpretation of the objectives in the ToRs, critical examination of tasks | D12: ='Bidder 1-5'!D12 -> 0.03 | F12: =$D12*E12*100 -> 0 | H12: =$D12*G12*100 -> 0 | J12: =$D12*I12*100 -> 0 | L12: =$D12*K12*100 -> 0 | N12: =$D12*M12*100 -> 0 | P12: =IF(ISBLANK(B12),A12,B12) -> Interpretation of the objectives in the ToRs, critical examination of tasks
A13: 1.1.2 | B13: Description and justification of the contractor's strategy for delivering the services put out to tender. | D13: ='Bidder 1-5'!D13 -> 0.03 | F13: =$D13*E13*100 -> 0 | H13: =$D13*G13*100 -> 0 | J13: =$D13*I13*100 -> 0 | L13: =$D13*K13*100 -> 0 | N13: =$D13*M13*100 -> 0 | P13: =IF(ISBLANK(B13),A13,B13) -> Description and justification of the contractor's strategy for delivering the services put out to tender.
A14: Interim total 1.1 | D14: ='Bidder 1-5'!D14 -> 0.06 | F14: =SUM(F12:F13) -> 0 | H14: =SUM(H12:H13) -> 0 | J14: =SUM(J12:J13) -> 0 | L14: =SUM(L12:L13) -> 0 | N14: =SUM(N12:N13) -> 0 | P14: =IF(ISBLANK(B14),A14,B14) -> Interim total 1.1
A15: 1.2 | B15: Cooperation | P15: =IF(ISBLANK(B15),A15,B15) -> Cooperation
A16: 1.2.1 | B16: Presentation and interaction between the relevant actors in the contractor's area of responsibility | D16: ='Bidder 1-5'!D16 -> 0.02 | F16: =$D16*E16*100 -> 0 | H16: =$D16*G16*100 -> 0 | J16: =$D16*I16*100 -> 0 | L16: =$D16*K16*100 -> 0 | N16: =$D16*M16*100 -> 0 | P16: =IF(ISBLANK(B16),A16,B16) -> Presentation and interaction between the relevant actors in the contractor's area of responsibility
A17: 1.2.2 | B17: Strategy for establishing cooperation and then cooperating with the relevant actors | D17: ='Bidder 1-5'!D17 -> 0.03 | F17: =$D17*E17*100 -> 0 | H17: =$D17*G17*100 -> 0 | J17: =$D17*I17*100 -> 0 | L17: =$D17*K17*100 -> 0 | N17: =$D17*M17*100 -> 0 | P17: =IF(ISBLANK(B17),A17,B17) -> Strategy for establishing cooperation and then cooperating with the relevant actors
A18: Interim total 1.2 | D18: ='Bidder 1-5'!D18 -> 0.05 | F18: =SUM(F16:F17) -> 0 | H18: =SUM(H16:H17) -> 0 | J18: =SUM(J16:J17) -> 0 | L18: =SUM(L16:L17) -> 0 | N18: =SUM(N16:N17) -> 0 | P18: =IF(ISBLANK(B18),A18,B18) -> Interim total 1.2
A19: 1.3 | B19: Steering structure | P19: =IF(ISBLANK(B19),A19,B19) -> Steering structure
A20: 1.3.1 | B20: Approach and procedure for steering the measures with the project partners | D20: ='Bidder 1-5'!D20 -> 0.03 | F20: =$D20*E20*100 -> 0 | H20: =$D20*G20*100 -> 0 | J20: =$D20*I20*100 -> 0 | L20: =$D20*K20*100 -> 0 | N20: =$D20*M20*100 -> 0 | P20: =IF(ISBLANK(B20),A20,B20) -> Approach and procedure for steering the measures with the project partners
A21: 1.3.2 | B21: Description of contractor's contribution to results monitoring and the associated challenges | D21: ='Bidder 1-5'!D21 -> 0.03 | F21: =$D21*E21*100 -> 0 | H21: =$D21*G21*100 -> 0 | J21: =$D21*I21*100 -> 0 | L21: =$D21*K21*100 -> 0 | N21: =$D21*M21*100 -> 0 | P21: =IF(ISBLANK(B21),A21,B21) -> Description of contractor's contribution to results monitoring and the associated challenges
A22: Interim total 1.3 | D22: ='Bidder 1-5'!D22 -> 0.06 | F22: =SUM(F20:F21) -> 0 | H22: =SUM(H20:H21) -> 0 | J22: =SUM(J20:J21) -> 0 | L22: =SUM(L20:L21) -> 0 | N22: =SUM(N20:N21) -> 0 | P22: =IF(ISBLANK(B22),A22,B22) -> Interim total 1.3
A23: 1.4 | B23: Processes | P23: =IF(ISBLANK(B23),A23,B23) -> Processes
A24: 1.4.1 | B24: Presentation and explanation of the implementation plan: work steps, milestones, schedule | D24: ='Bidder 1-5'!D24 -> 0.04 | F24: =$D24*E24*100 -> 0 | H24: =$D24*G24*100 -> 0 | J24: =$D24*I24*100 -> 0 | L24: =$D24*K24*100 -> 0 | N24: =$D24*M24*100 -> 0 | P24: =IF(ISBLANK(B24),A24,B24) -> Presentation and explanation of the implementation plan: work steps, milestones, schedule
A25: 1.4.2 | B25: Presentation and explanation of the integration of the partner contributions | D25: ='Bidder 1-5'!D25 -> 0.02 | F25: =$D25*E25*100 -> 0 | H25: =$D25*G25*100 -> 0 | J25: =$D25*I25*100 -> 0 | L25: =$D25*K25*100 -> 0 | N25: =$D25*M25*100 -> 0 | P25: =IF(ISBLANK(B25),A25,B25) -> Presentation and explanation of the integration of the partner contributions
A26: Interim total 1.4 | D26: ='Bidder 1-5'!D26 -> 0.06 | F26: =SUM(F24:F25) -> 0 | H26: =SUM(H24:H25) -> 0 | J26: =SUM(J24:J25) -> 0 | L26: =SUM(L24:L25) -> 0 | N26: =SUM(N24:N25) -> 0 | P26: =IF(ISBLANK(B26),A26,B26) -> Interim total 1.4
A27: 1.5 | B27: Learning and innovation | P27: =IF(ISBLANK(B27),A27,B27) -> Learning and innovation
A28: 1.5.1 | B28: Contractor's contribution to knowledge management at the partner and at GIZ | D28: ='Bidder 1-5'!D28 -> 0.02 | F28: =$D28*E28*100 -> 0 | H28: =$D28*G28*100 -> 0 | J28: =$D28*I28*100 -> 0 | L28: =$D28*K28*100 -> 0 | N28: =$D28*M28*100 -> 0 | P28: =IF(ISBLANK(B28),A28,B28) -> Contractor's contribution to knowledge management at the partner and at GIZ
A29: 1.5.2 | B29: Presentation and explanation of the measures undertaken by the contractor to promote scaling-up effects | D29: ='Bidder 1-5'!D29 -> 0.02 | F29: =$D29*E29*100 -> 0 | H29: =$D29*G29*100 -> 0 | J29: =$D29*I29*100 -> 0 | L29: =$D29*K29*100 -> 0 | N29: =$D29*M29*100 -> 0 | P29: =IF(ISBLANK(B29),A29,B29) -> Presentation and explanation of the measures undertaken by the contractor to promote scaling-up effects
A30: Interim total 1.5 | D30: ='Bidder 1-5'!D30 -> 0.04 | F30: =SUM(F28:F29) -> 0 | H30: =SUM(H28:H29) -> 0 | J30: =SUM(J28:J29) -> 0 | L30: =SUM(L28:L29) -> 0 | N30: =SUM(N28:N29) -> 0 | P30: =IF(ISBLANK(B30),A30,B30) -> Interim total 1.5
A31: 1.6 | B31: Project management of the contractor | P31: =IF(ISBLANK(B31),A31,B31) -> Project management of the contractor
A32: 1.6.1 | B32: Approach and procedure for coordination with/in GIZ project | D32: ='Bidder 1-5'!D32 -> 0.02 | F32: =$D32*E32*100 -> 0 | H32: =$D32*G32*100 -> 0 | J32: =$D32*I32*100 -> 0 | L32: =$D32*K32*100 -> 0 | N32: =$D32*M32*100 -> 0 | P32: =IF(ISBLANK(B32),A32,B32) -> Approach and procedure for coordination with/in GIZ project
A33: 1.6.2 | B33: Personnel assignment plan (who, when, what work steps) incl. explanation and specification of expert months | D33: ='Bidder 1-5'!D33 -> 0.04 | F33: =$D33*E33*100 -> 0 | H33: =$D33*G33*100 -> 0 | J33: =$D33*I33*100 -> 0 | L33: =$D33*K33*100 -> 0 | N33: =$D33*M33*100 -> 0 | P33: =IF(ISBLANK(B33),A33,B33) -> Personnel assignment plan (who, when, what work steps) incl. explanation and specification of expert months
A34: 1.6.3 | B34: Contractor's backstopping strategy (incl. CVs of the technical and administrative backstopper) | D34: ='Bidder 1-5'!D34 -> 0 | F34: =$D34*E34*100 -> 0 | H34: =$D34*G34*100 -> 0 | J34: =$D34*I34*100 -> 0 | L34: =$D34*K34*100 -> 0 | N34: =$D34*M34*100 -> 0 | P34: =IF(ISBLANK(B34),A34,B34) -> Contractor's backstopping strategy (incl. CVs of the technical and administrative backstopper)
A35: Interim total 1.6 | D35: ='Bidder 1-5'!D35 -> 0.06 | F35: =SUM(F32:F34) -> 0 | H35: =SUM(H32:H34) -> 0 | J35: =SUM(J32:J34) -> 0 | L35: =SUM(L32:L34) -> 0 | N35: =SUM(N32:N34) -> 0 | P35: =IF(ISBLANK(B35),A35,B35) -> Interim total 1.6
A36: 1.7 | B36: Further requirements | D36: ='Bidder 1-5'!D36 -> 0.02 | F36: =$D36*E36*100 -> 0 | H36: =$D36*G36*100 -> 0 | J36: =$D36*I36*100 -> 0 | L36: =$D36*K36*100 -> 0 | N36: =$D36*M36*100 -> 0 | P36: =IF(ISBLANK(B36),A36,B36) -> Further requirements
A37: Total 1 | D37: ='Bidder 1-5'!D37 -> 0.35 | F37: =SUM(F14,F18,F22,F26,F30,F35,F36) -> 0 | H37: =SUM(H14,H18,H22,H26,H30,H35,H36) -> 0 | J37: =SUM(J14,J18,J22,J26,J30,J35,J36) -> 0 | L37: =SUM(L14,L18,L22,L26,L30,L35,L36) -> 0 | N37: =SUM(N14,N18,N22,N26,N30,N35,N36) -> 0 | P37: =IF(ISBLANK(B37),A37,B37) -> Total 1
A38: 2 | B38: Assessment of proposed staff | P38: =IF(ISBLANK(B38),A38,B38) -> Assessment of proposed staff
A39: 2.1 | B39: Team leader (in accordance with ToR provisions/criteria) | P39: =IF(ISBLANK(B39),A39,B39) -> Team leader (in accordance with ToR provisions/criteria)
A40: 2.1.1 | B40: - Qualifications | D40: ='Bidder 1-5'!D40 -> 0.02 | F40: =$D40*E40*100 -> 0 | H40: =$D40*G40*100 -> 0 | J40: =$D40*I40*100 -> 0 | L40: =$D40*K40*100 -> 0 | N40: =$D40*M40*100 -> 0 | P40: =IF(ISBLANK(B40),A40,B40) -> - Qualifications
...
